BEGIN:VCALENDAR
VERSION:2.0
PRODID:-//The Food Studio - ECPv6.15.10//NONSGML v1.0//EN
CALSCALE:GREGORIAN
METHOD:PUBLISH
X-WR-CALNAME:The Food Studio
X-ORIGINAL-URL:https://foodstudiomt.com
X-WR-CALDESC:Events for The Food Studio
REFRESH-INTERVAL;VALUE=DURATION:PT1H
X-Robots-Tag:noindex
X-PUBLISHED-TTL:PT1H
BEGIN:VTIMEZONE
TZID:America/Denver
BEGIN:DAYLIGHT
TZOFFSETFROM:-0700
TZOFFSETTO:-0600
TZNAME:MDT
DTSTART:20180311T090000
END:DAYLIGHT
BEGIN:STANDARD
TZOFFSETFROM:-0600
TZOFFSETTO:-0700
TZNAME:MST
DTSTART:20181104T080000
END:STANDARD
BEGIN:DAYLIGHT
TZOFFSETFROM:-0700
TZOFFSETTO:-0600
TZNAME:MDT
DTSTART:20190310T090000
END:DAYLIGHT
BEGIN:STANDARD
TZOFFSETFROM:-0600
TZOFFSETTO:-0700
TZNAME:MST
DTSTART:20191103T080000
END:STANDARD
BEGIN:DAYLIGHT
TZOFFSETFROM:-0700
TZOFFSETTO:-0600
TZNAME:MDT
DTSTART:20200308T090000
END:DAYLIGHT
BEGIN:STANDARD
TZOFFSETFROM:-0600
TZOFFSETTO:-0700
TZNAME:MST
DTSTART:20201101T080000
END:STANDARD
BEGIN:DAYLIGHT
TZOFFSETFROM:-0700
TZOFFSETTO:-0600
TZNAME:MDT
DTSTART:20210314T090000
END:DAYLIGHT
BEGIN:STANDARD
TZOFFSETFROM:-0600
TZOFFSETTO:-0700
TZNAME:MST
DTSTART:20211107T080000
END:STANDARD
BEGIN:DAYLIGHT
TZOFFSETFROM:-0700
TZOFFSETTO:-0600
TZNAME:MDT
DTSTART:20220313T090000
END:DAYLIGHT
BEGIN:STANDARD
TZOFFSETFROM:-0600
TZOFFSETTO:-0700
TZNAME:MST
DTSTART:20221106T080000
END:STANDARD
BEGIN:DAYLIGHT
TZOFFSETFROM:-0700
TZOFFSETTO:-0600
TZNAME:MDT
DTSTART:20230312T090000
END:DAYLIGHT
BEGIN:STANDARD
TZOFFSETFROM:-0600
TZOFFSETTO:-0700
TZNAME:MST
DTSTART:20231105T080000
END:STANDARD
BEGIN:DAYLIGHT
TZOFFSETFROM:-0700
TZOFFSETTO:-0600
TZNAME:MDT
DTSTART:20240310T090000
END:DAYLIGHT
BEGIN:STANDARD
TZOFFSETFROM:-0600
TZOFFSETTO:-0700
TZNAME:MST
DTSTART:20241103T080000
END:STANDARD
BEGIN:DAYLIGHT
TZOFFSETFROM:-0700
TZOFFSETTO:-0600
TZNAME:MDT
DTSTART:20250309T090000
END:DAYLIGHT
BEGIN:STANDARD
TZOFFSETFROM:-0600
TZOFFSETTO:-0700
TZNAME:MST
DTSTART:20251102T080000
END:STANDARD
END:VTIMEZONE
BEGIN:VEVENT
DTSTART;TZID=America/Denver:20240301T180000
DTEND;TZID=America/Denver:20240301T210000
DTSTAMP:20260423T093725
CREATED:20240205T194007Z
LAST-MODIFIED:20240228T203906Z
UID:2422-1709316000-1709326800@foodstudiomt.com
SUMMARY:Soul Food Dinner\, with Local Beer Pairings
DESCRIPTION:Due to ticket sales\, this event has been cancelled. Please stay tuned for future events!  \n\n\n\n\n\nCourse 1: IPAHoe Cake\, Pork Belly\, Burrata\, ChowChow\, PecanCourse 2: PilsnerCeleriac and Fennel Bisque\, Scallop\, Ikura\, Fennel PollenCourse 3: Barrel-Aged Barley WineShrimp and Grits\, Pickled Collard Greens\, Fresno Chili\, Fennel CrispCourse 4: Citrus IPAFried Chicken\, Biscuit\, Black Garlic Honey Butter\, Chipotle OilCourse 5: Arctic Pilsner Koji Marinated Pork Shank\, Apple Butter Glaze\, Apple Mostarda\, Sweet Potato\, PecanCourse 6: Sour BeerButtermilk Pie\, Fruit\, HoneyCourse 7: StoutChocolate Sorbet
URL:https://foodstudiomt.com/event/soul-food-dinner-w-beer-pairings/
LOCATION:The Food Studio\, 2251 W. Kagy Blvd.\, Bozeman\, MT\, 59718\, United States
END:VEVENT
BEGIN:VEVENT
DTSTART;TZID=America/Denver:20240214T180000
DTEND;TZID=America/Denver:20240214T210000
DTSTAMP:20260423T093725
CREATED:20240205T192100Z
LAST-MODIFIED:20240206T045136Z
UID:2416-1707933600-1707944400@foodstudiomt.com
SUMMARY:Valentines Pickup Dinner
DESCRIPTION:
URL:https://foodstudiomt.com/event/valentines-pickup-dinner/
LOCATION:The Food Studio
END:VEVENT
BEGIN:VEVENT
DTSTART;TZID=America/Denver:20191219T190000
DTEND;TZID=America/Denver:20191219T213000
DTSTAMP:20260423T093725
CREATED:20191206T170210Z
LAST-MODIFIED:20191206T170241Z
UID:1628-1576782000-1576791000@foodstudiomt.com
SUMMARY:Elk Cove Wine Pairing Dinner
DESCRIPTION:Elk Cove Wine Pairing\n\n\n\n\n\nJoin us December 19th for an exclusive wine pairing dinner brought to you by our partners\, the Bozeman Wine Gallery. Six of our courses will be paired with wines from Elk Cove Vineyards from Oregon and will feature Rose\, Chardonnay and a selection of 4 Pinot Noir. See below for the menu. Tickets are $75 dollars a person and can be purchased  at the Wine Gallery’s website under the events page\, or by following this link: \n\n\n\nhttp://bozemanwinegallery.com/elk-cove-wine-dinner1?ReturnUrl=LwBlAHYAZQBuAHQAcwA%3d \n\n\n\n\n\n\n\n\n\n\n\n\n\n\n\nRose 2015 la Boheme \n\n\n\n-Chevre beignet \n\n\n\nChardonnay 2016 Goodrich \n\n\n\n-Baby octopus/avocado/ginger/chili/cilantro/pea shoot/lemon \n\n\n\nPinot 1 2017 5 mountain \n\n\n\n-Lamb ragu/herbs/gnudi \n\n\n\nPinot 2 2017 Goodrich \n\n\n\n-Chestnut and butternut squash tortellini/sage/brown butter/black walnut \n\n\n\nPinot 3 2017 la Boheme \n\n\n\n-Dry aged Duck breast/blackberry\, cherry and port gastrique/celeriac “pomme frites” \n\n\n\nPinot 4 2016 Reserve \n\n\n\n-Ile Flottante/dark chocolate mousse/tuile/cherry/crème anglaise
URL:https://foodstudiomt.com/event/elk-cove-wine-pairing-dinner/
LOCATION:MT
END:VEVENT
BEGIN:VEVENT
DTSTART;TZID=America/Denver:20191101T183000
DTEND;TZID=America/Denver:20191101T220000
DTSTAMP:20260423T093725
CREATED:20190911T195016Z
LAST-MODIFIED:20191025T191030Z
UID:1517-1572633000-1572645600@foodstudiomt.com
SUMMARY:Outlaw Brewing Dinner-SOLD OUT
DESCRIPTION:Outlaw Brewing Dinner- Join us for an evening at the Food Studio as we partner with Todd Hough\, Brewmaster and Owner of Outlaw Brewing in Bozeman. Our beer pairings consist of customized dishes based on our favorite Outlaw brews\, including several specialty draughts that Todd has prepared for Oktoberfest. The meal will consist of 5 courses\, each paired with a unique Outlaw beer (plus a few surprises!). Todd will join Chef Daniel Wendell and his talented crew for each course to talk through their processes and flavor choices. We love working with Todd and his team and are excited to welcome them back to the studio. Menu to follow.
URL:https://foodstudiomt.com/event/outlaw-brewing-dinner/
LOCATION:The Food Studio\, 2251 W. Kagy Blvd.\, Bozeman\, MT\, 59718\, United States
END:VEVENT
BEGIN:VEVENT
DTSTART;TZID=America/Denver:20190512T110000
DTEND;TZID=America/Denver:20190512T130000
DTSTAMP:20260423T093725
CREATED:20190423T153645Z
LAST-MODIFIED:20190424T150514Z
UID:1299-1557658800-1557666000@foodstudiomt.com
SUMMARY:Mother's Day Brunch
DESCRIPTION:Mother’s Day Brunch\n\n\n\n\n\n\n\n\n\n\n\n\n\n\n\nSunday\, May 1211:00 am \n\n\n\nMother’s Day Brunch at The Food Studio \n\n\n\n$35 per person $15 per child (12 and under)   \n\n\n\n\n\nMENU Mimosa Coffee Juice Beignets Fruit course: Seasonal organic fresh fruit and berries\, house yogurt\, granola\, meyer lemon curd\, meringue\, nut’s\, flowers and herbs Pastry and cheese Course: selection of JAMS\, BREADS\,\, whipped butter\, pastries and cheese Choice of entrée: Waygu corned beef hash\, Slow Egg\, roasted shallot\,greens\, sauce charone\, grilled sourdough Aneheim chili relleno\, queso fresco\, smoked ranchero sauce\, avocado and pico de gallo Eggs poached in pomodoro\, house made formage blanc\,  semolina dumplings\, artichoke hash CHILDRENS Menu: Belgium Waffles/fresh berries/vanilla powder/syrup Scrambled Eggs/bacon/fried potatoes
URL:https://foodstudiomt.com/event/mothers-day-brunch/
LOCATION:The Food Studio\, 2251 W. Kagy Blvd.\, Bozeman\, MT\, 59718\, United States
END:VEVENT
BEGIN:VEVENT
DTSTART;TZID=America/Denver:20190503T190000
DTEND;TZID=America/Denver:20190503T220000
DTSTAMP:20260423T093725
CREATED:20190423T025640Z
LAST-MODIFIED:20220509T185756Z
UID:1253-1556910000-1556920800@foodstudiomt.com
SUMMARY:Comfort Classics\, Pick-Up Dinner
DESCRIPTION:
URL:https://foodstudiomt.com/event/cinco-de-mayo-dinner/
LOCATION:The Food Studio\, 2251 W. Kagy Blvd.\, Bozeman\, MT\, 59718\, United States
END:VEVENT
END:VCALENDAR